BEGIN:VCALENDAR
VERSION:2.0
PRODID:-//Swan View Primary School - ECPv6.15.16//NONSGML v1.0//EN
CALSCALE:GREGORIAN
METHOD:PUBLISH
X-ORIGINAL-URL:https://swanview.wa.edu.au
X-WR-CALDESC:Events for Swan View Primary School
REFRESH-INTERVAL;VALUE=DURATION:PT1H
X-Robots-Tag:noindex
X-PUBLISHED-TTL:PT1H
BEGIN:VTIMEZONE
TZID:Australia/Perth
BEGIN:STANDARD
TZOFFSETFROM:+0800
TZOFFSETTO:+0800
TZNAME:AWST
DTSTART:20230101T000000
END:STANDARD
END:VTIMEZONE
BEGIN:VEVENT
DTSTART;TZID=Australia/Perth:20240913T163000
DTEND;TZID=Australia/Perth:20240913T200000
DTSTAMP:20260422T200512
CREATED:20240820T040545Z
LAST-MODIFIED:20240820T053804Z
UID:1081-1726245000-1726257600@swanview.wa.edu.au
SUMMARY:P & C Fairy & Fantasy Disco
DESCRIPTION:The P & C will be holding a disco for all students.  There will be two time slots. Kindy to Year 2 from 4:30pm to 6:00pm and the Years 3 to 6 will go from 6:30pm until 8pm. \nThis will be held at Brown Park in the Bruce Douglas Pavilion.
URL:https://swanview.wa.edu.au/calendar/p-c-fairy-fantasy-disco/
CATEGORIES:P & C Event,School Events
END:VEVENT
BEGIN:VEVENT
DTSTART;TZID=Australia/Perth:20240828T150000
DTEND;TZID=Australia/Perth:20240828T160000
DTSTAMP:20260422T200512
CREATED:20240820T042323Z
LAST-MODIFIED:20240820T053832Z
UID:1085-1724857200-1724860800@swanview.wa.edu.au
SUMMARY:P & C Meeting Additional
DESCRIPTION:Held in the staff room from 3:10pm
URL:https://swanview.wa.edu.au/calendar/p-c-meeting-additional/
CATEGORIES:P & C Event
END:VEVENT
END:VCALENDAR